BEGIN:VCALENDAR
VERSION:2.0
PRODID:-//Arts Calendar - ECPv4.4.0.1//NONSGML v1.0//EN
CALSCALE:GREGORIAN
METHOD:PUBLISH
X-WR-CALNAME:Arts Calendar
X-ORIGINAL-URL:http://arts.kerrycoco.ie
X-WR-CALDESC:Events for Arts Calendar
BEGIN:VEVENT
DTSTART;VALUE=DATE:20171117
DTEND;VALUE=DATE:20171119
DTSTAMP:20171105T202413
CREATED:20170215T145051Z
LAST-MODIFIED:20170215T145940Z
UID:275-1510876800-1511135999@arts.kerrycoco.ie
SUMMARY:Torc Set Dancing Weekend
DESCRIPTION:\n\nThree ceilis music\, Johnny Reidy\, Abbey and Striolan ceili bands. Set dancing workshops directed by Timmy Woulfe. Music sessions after ceilis.
URL:http://arts.kerrycoco.ie/event/torc-set-dancing-weekend/
LOCATION:Torc Hotel\, Killarney\, Ireland
CATEGORIES:Dance
ORGANIZER;CN="Joan%20Pollard%20Carew":MAILTO:joanpollardcarew@gmail.com
END:VEVENT
END:VCALENDAR