BEGIN:VCALENDAR
VERSION:2.0
PRODID:-//Arts Calendar - ECPv4.4.0.1//NONSGML v1.0//EN
CALSCALE:GREGORIAN
METHOD:PUBLISH
X-WR-CALNAME:Arts Calendar
X-ORIGINAL-URL:http://arts.kerrycoco.ie
X-WR-CALDESC:Events for Arts Calendar
BEGIN:VEVENT
DTSTART;VALUE=DATE:20171109
DTEND;VALUE=DATE:20171112
DTSTAMP:20171105T201832
CREATED:20170215T124457Z
LAST-MODIFIED:20170215T124548Z
UID:267-1510185600-1510531199@arts.kerrycoco.ie
SUMMARY:National Circus Festival of Ireland
DESCRIPTION:\n\nThe festival is Irelandâ€™s largest annual circus festival. It is one of the most exciting\, emerging festivals in Ireland. The festival has lit up Tralee every November in an explosion of theatre\, clown\, aerial\, fun\, laughter\, skill and absurdity.\n\n 
URL:http://arts.kerrycoco.ie/event/national-circus-festival-of-ireland/
LOCATION:Tralee\, Ireland
CATEGORIES:Circus Arts
ORGANIZER;CN="Con%20Horgan":MAILTO:info@circusfestival.ie
END:VEVENT
BEGIN:VEVENT
DTSTART;VALUE=DATE:20171110
DTEND;VALUE=DATE:20171112
DTSTAMP:20171105T201832
CREATED:20170215T133631Z
LAST-MODIFIED:20170215T144654Z
UID:271-1510272000-1510531199@arts.kerrycoco.ie
SUMMARY:Sneem International Folklore & Storytelling Festival
DESCRIPTION:\n\nStorytelling concerts\, lecutres\, walk\, pub trails\, workshops for adults and children set in hte beautiful village of Sneem.\n\n 
URL:http://arts.kerrycoco.ie/event/sneem-international-folklore-storytelling-festival/
LOCATION:Sneem\, Ireland
CATEGORIES:Storytelling
ORGANIZER;CN="Rosie%20Crouch":MAILTO:info@sneemstorytellingfestival.com
END:VEVENT
END:VCALENDAR