BEGIN:VCALENDAR
VERSION:2.0
PRODID:-//Arts Calendar - ECPv4.4.0.1//NONSGML v1.0//EN
CALSCALE:GREGORIAN
METHOD:PUBLISH
X-WR-CALNAME:Arts Calendar
X-ORIGINAL-URL:http://arts.kerrycoco.ie
X-WR-CALDESC:Events for Arts Calendar
BEGIN:VEVENT
DTSTART;VALUE=DATE:20171018
DTEND;VALUE=DATE:20171022
DTSTAMP:20171030T192929
CREATED:20170215T123502Z
LAST-MODIFIED:20170215T123502Z
UID:260-1508284800-1508716799@arts.kerrycoco.ie
SUMMARY:Kerry Film Festival
DESCRIPTION:\n\nA pioneering countywide festival\, KFF presents a curated shorts and features programme plus a unique series of film music events.
URL:http://arts.kerrycoco.ie/event/kerry-film-festival/
LOCATION:Killarney\, Ireland
CATEGORIES:Film
ORGANIZER;CN="Philip%20Doyle":MAILTO:info@kerryfilmfestival.com
END:VEVENT
END:VCALENDAR